BEGIN:VCALENDAR
VERSION:2.0
PRODID:-//Real Estate|Thornbury, Blue Mountains &amp; Collingwood | Karen Willison - ECPv6.15.20//NONSGML v1.0//EN
CALSCALE:GREGORIAN
METHOD:PUBLISH
X-WR-CALNAME:Real Estate|Thornbury, Blue Mountains &amp; Collingwood | Karen Willison
X-ORIGINAL-URL:https://collaborativerealestate.ca
X-WR-CALDESC:Events for Real Estate|Thornbury, Blue Mountains &amp; Collingwood | Karen Willison
REFRESH-INTERVAL;VALUE=DURATION:PT1H
X-Robots-Tag:noindex
X-PUBLISHED-TTL:PT1H
BEGIN:VTIMEZONE
TZID:America/Toronto
BEGIN:DAYLIGHT
TZOFFSETFROM:-0500
TZOFFSETTO:-0400
TZNAME:EDT
DTSTART:20220313T070000
END:DAYLIGHT
BEGIN:STANDARD
TZOFFSETFROM:-0400
TZOFFSETTO:-0500
TZNAME:EST
DTSTART:20221106T060000
END:STANDARD
BEGIN:DAYLIGHT
TZOFFSETFROM:-0500
TZOFFSETTO:-0400
TZNAME:EDT
DTSTART:20230312T070000
END:DAYLIGHT
BEGIN:STANDARD
TZOFFSETFROM:-0400
TZOFFSETTO:-0500
TZNAME:EST
DTSTART:20231105T060000
END:STANDARD
BEGIN:DAYLIGHT
TZOFFSETFROM:-0500
TZOFFSETTO:-0400
TZNAME:EDT
DTSTART:20240310T070000
END:DAYLIGHT
BEGIN:STANDARD
TZOFFSETFROM:-0400
TZOFFSETTO:-0500
TZNAME:EST
DTSTART:20241103T060000
END:STANDARD
END:VTIMEZONE
BEGIN:VEVENT
DTSTART;TZID=America/Toronto:20231115T080000
DTEND;TZID=America/Toronto:20231115T170000
DTSTAMP:20260420T044520
CREATED:20231115T151439Z
LAST-MODIFIED:20231115T151439Z
UID:297958-1700035200-1700067600@collaborativerealestate.ca
SUMMARY:Creemore Farmers’ and Craft Christmas Market
DESCRIPTION:Something for everyone. \n\n\n\nDETAILS\n\n\nDec 2023\n\nSAT 2\n\n\n\n\n9:00 am – 1:00 pm \n\n\n\n\n\n\n\nSAT 9\n\n\n\n\n9:00 am – 1:00 pm \n\n\n\n\n\n\n\nSAT 16\n\n\n\n\n9:00 am – 1:00 pm \n\n\n\n\n\n\nSeries:\nCreemore Farmers’ and Craft Christmas Market\nEvent Category:\nCommunity\nWebsite:\nVisit Event Website\n\n\n\nORGANIZER\n\nCreemore Farmers’ Market\nEmail:\ncreemoremarket@gmail.com\nWebsite:\nView Organizer Website\n\n\n\n\n\nVENUE\n\n\nCreemore Station on the Green\n\n\n10 Caroline St E\nCreemore\, ON L0M 1G0 + Google Map
URL:https://collaborativerealestate.ca/event/creemore-farmers-and-craft-christmas-market/
LOCATION:Creemore Station on the Green\, 10 Caroline St E\, Creemore\, Ontario\, L0M 1G0
ATTACH;FMTTYPE=image/png:https://collaborativerealestate.ca/wp-content/uploads/2023/11/Screenshot-2023-11-15-101146.png
END:VEVENT
BEGIN:VEVENT
DTSTART;TZID=America/Toronto:20231118T100000
DTEND;TZID=America/Toronto:20231118T160000
DTSTAMP:20260420T044520
CREATED:20231115T145622Z
LAST-MODIFIED:20231115T145622Z
UID:297937-1700301600-1700323200@collaborativerealestate.ca
SUMMARY:Christmas Craft Shopping Spree Thornbury
DESCRIPTION:When\n\nNov 18\, 2023|10am – 4pm\n\n\n\nOn Saturday\, November 18 (10am – 4pm)\, stop by the Gallery at L.E. Shore for our annual Christmas Craft Shopping Spree! The Gallery will be filled with artwork and crafts from local artists and artisans – browse original artwork\, handcrafted jewelry and pottery\, naturally dyed fabric products and more! A perfect stop on your holiday shopping adventures. \nAddress: 173 Bruce Street South\, Thornbury\, Ontario. \n\n\nDetails\n\n\nLocation\nThe L.E. Shore Library & Gallery\n\n\nContact information\n\n\nContact person\nFranz\n\n\nEmail\nTheGallery@TheBlueMountains.ca\n\n\nPhone number\n519 599 3681
URL:https://collaborativerealestate.ca/event/christmas-craft-shopping-spree-thornbury/
LOCATION:LE SHORE LIBRARY\, 173 Bruce Street S\, Thornbury\, ON
ATTACH;FMTTYPE=image/png:https://collaborativerealestate.ca/wp-content/uploads/2023/11/Screenshot-2023-11-15-095448.png
END:VEVENT
BEGIN:VEVENT
DTSTART;VALUE=DATE:20231124
DTEND;VALUE=DATE:20231127
DTSTAMP:20260420T044520
CREATED:20231115T152148Z
LAST-MODIFIED:20231115T152148Z
UID:297985-1700784000-1701043199@collaborativerealestate.ca
SUMMARY:Wasaga Beach Holiday Market
DESCRIPTION:November 24\, 2023 – November 26\, 2023\n\n\nStart Time\n10:00 AM\n\n\nEnd Time\n08:00 PM\n\n\n\n\n\n\n1724 Mosley Street\, Wasaga Beach\, ON\, Canada\n\n\nAs the air turns colder and the sound of jingle bells begin to ring in the air\, The Town of Wasaga Beach is proud to announce South Georgian Bay’s newest holiday tradition. \nInspired by holiday markets from Munich to Manchester the 1st Annual Wasaga Beach Holiday Market will have something for everyone. \nNovember 24th-26th 2023 | Wasaga Beach RecPlex-1724 Mosley St. \nSchedule of Holiday Market Events: \nFriday Nov 24th\nMarket opens-10:00am\nMedia Day- 3:00pm-6:30pm\nBeer Hall Hours 5:00pm-10:00pm\nGrand Opening / Tree Lighting Ceremony- 6:30pm-7:30pm\nMistletones Performance- 7:00pm\nMarket closes-10:00pm \nSaturday Nov 25th\nMarket opens- 10:00am\nPhoto Station- 10:00am-10:00pm\nBeer Hall hours- 12:00pm-10:00pm\n1st performance- 12:00pm-1:30pm\n2nd performance- 4:00pm-5:30pm\n3rd performance- 7:00pm-8:30pm\nMarket closes – 10:00pm \nSunday Nov 26th\nMarket opens- 10:00am\nPictures with Santa- 1:00pm-3:00pm/ 4:00-6:00pm\nBeer Hall hours- 12:00pm-10:00pm\n1st performance- 12:00pm-1:30pm\n2nd performance- 2:00pm-3:30pm\n3rd performance- 6:00pm-7:30pm\nMarket Closes- 8:00pm
URL:https://collaborativerealestate.ca/event/wasaga-beach-holiday-market/
LOCATION:Wasaga Beach Rec Plex\, 1724 Mosley St.\, Wasaga Beach
ATTACH;FMTTYPE=image/png:https://collaborativerealestate.ca/wp-content/uploads/2023/11/Screenshot-2023-11-15-101901.png
END:VEVENT
BEGIN:VEVENT
DTSTART;VALUE=DATE:20231130
DTEND;VALUE=DATE:20231204
DTSTAMP:20260420T044520
CREATED:20231115T143615Z
LAST-MODIFIED:20231115T143615Z
UID:297898-1701302400-1701647999@collaborativerealestate.ca
SUMMARY:Christmas On The Bay Meaford
DESCRIPTION:Come explore Georgian Bay’s largest full scale 4-day outdoor European-style Christmas market located in historic Meaford. \nImmerse yourself into a world of delightfully decorated traditional wooden stalls\, endless seasonal lighting\, multiple fire pits\, winter princesses\, Christmas trees galore\, music\, a Santa Claus Parade\, dancing windows\, and an entertainment stage for live music and performances. Explore and sample a tantalizing array of the area’s finest locally made foods\, artisanal products\, and hand crafted gifts while you sip on  mulled cider made from apples grown right here in historic Meaford. \nChristmas On The Bay is packed with something for everyone\, from live music and free children’s programming to dinner and retail special events throughout our downtown to special performances in the adjacent Meaford Hall and Cultural Centre. For those who have been especially good you might even catch a glimpse of Santa or even make a special request. Our jovial Christmas Gnome Georgie will be making regular appearances with its black service doggie\, Joe. Yes\, we are dog-friendly so even your dog can get in on the fun! \nThursday 30 November\, 2PM – 8PM\, Friday 1 December\, 2PM – 8PM\, Saturday 2 December\, 10AM – 8PM\, Sunday 3 December\, 10AM-4PM. \nAdmission is Free. Plenty of Parking. Accessible. 2SLGBQ+ Friendly. \nSpecial inclusion programming during Georgie Presents… See www.ChristmasOnTheBay.ca for more details.
URL:https://collaborativerealestate.ca/event/christmas-on-the-bay-meaford/
LOCATION:Meaford Hall\, 12 Nelson St E\, Meaford\, ON\, Canada
ATTACH;FMTTYPE=image/jpeg:https://collaborativerealestate.ca/wp-content/uploads/2023/11/https___cdn.evbuc_.com_images_424265149_974852087913_1_original.jpg
END:VEVENT
END:VCALENDAR