BEGIN:VCALENDAR
VERSION:2.0
PRODID:-//Real Estate|Thornbury, Blue Mountains &amp; Collingwood | Karen Willison - ECPv6.15.20//NONSGML v1.0//EN
CALSCALE:GREGORIAN
METHOD:PUBLISH
X-WR-CALNAME:Real Estate|Thornbury, Blue Mountains &amp; Collingwood | Karen Willison
X-ORIGINAL-URL:https://collaborativerealestate.ca
X-WR-CALDESC:Events for Real Estate|Thornbury, Blue Mountains &amp; Collingwood | Karen Willison
REFRESH-INTERVAL;VALUE=DURATION:PT1H
X-Robots-Tag:noindex
X-PUBLISHED-TTL:PT1H
BEGIN:VTIMEZONE
TZID:America/Toronto
BEGIN:DAYLIGHT
TZOFFSETFROM:-0500
TZOFFSETTO:-0400
TZNAME:EDT
DTSTART:20200308T070000
END:DAYLIGHT
BEGIN:STANDARD
TZOFFSETFROM:-0400
TZOFFSETTO:-0500
TZNAME:EST
DTSTART:20201101T060000
END:STANDARD
BEGIN:DAYLIGHT
TZOFFSETFROM:-0500
TZOFFSETTO:-0400
TZNAME:EDT
DTSTART:20210314T070000
END:DAYLIGHT
BEGIN:STANDARD
TZOFFSETFROM:-0400
TZOFFSETTO:-0500
TZNAME:EST
DTSTART:20211107T060000
END:STANDARD
BEGIN:DAYLIGHT
TZOFFSETFROM:-0500
TZOFFSETTO:-0400
TZNAME:EDT
DTSTART:20220313T070000
END:DAYLIGHT
BEGIN:STANDARD
TZOFFSETFROM:-0400
TZOFFSETTO:-0500
TZNAME:EST
DTSTART:20221106T060000
END:STANDARD
END:VTIMEZONE
BEGIN:VEVENT
DTSTART;TZID=America/Toronto:20211217T170000
DTEND;TZID=America/Toronto:20211217T200000
DTSTAMP:20260423T141836
CREATED:20211128T173240Z
LAST-MODIFIED:20211128T173240Z
UID:206277-1639760400-1639771200@collaborativerealestate.ca
SUMMARY:Collingwood Christmas Market
DESCRIPTION:Downtown Collingwood\nDec 17 2021 – Dec 17 2021\n\n\n\nMagic is in the air!\n\nThe Collingwood BIA is bringing to you a special Holiday Spirit filled Christmas Market \n\nOn Friday December 3rd\, 10th and 17th from 5:00-8:00pm\, the streets will be lit up with our amazing light installations\, along with local vendors & extended store hours for all your holiday shopping\, strolling entertainment from hula hoopers to stilt walkers and jugglers. Enjoy the magic of the dancers from Fleetwood Dancentre and 5678 Dance as they perform in the windows and on the street; also we can’t forget about the big guy in red!\n\nYes that’s right\, Santa will be back in town with his big red sleigh\, with his reindeer in training from 5-8pm beside the Federal Building! \n*Santa’s reindeer will only be attending the market on December 10th and 17th*\n\n\nThe Collingwood BIA is bringing to you a special Holiday Spirit-filled Christmas Market.
URL:https://collaborativerealestate.ca/event/collingwood-christmas-market-3/
LOCATION:Collingwood Downtown
CATEGORIES:Drinks,Family,Food,Markets,Music,Outdoor
ATTACH;FMTTYPE=image/png:https://collaborativerealestate.ca/wp-content/uploads/2021/11/25-Christmas-Cookies-1.png
END:VEVENT
END:VCALENDAR