BEGIN:VCALENDAR
VERSION:2.0
PRODID:-//Real Estate|Thornbury, Blue Mountains &amp; Collingwood | Karen Willison - ECPv6.15.20//NONSGML v1.0//EN
CALSCALE:GREGORIAN
METHOD:PUBLISH
X-WR-CALNAME:Real Estate|Thornbury, Blue Mountains &amp; Collingwood | Karen Willison
X-ORIGINAL-URL:https://collaborativerealestate.ca
X-WR-CALDESC:Events for Real Estate|Thornbury, Blue Mountains &amp; Collingwood | Karen Willison
REFRESH-INTERVAL;VALUE=DURATION:PT1H
X-Robots-Tag:noindex
X-PUBLISHED-TTL:PT1H
BEGIN:VTIMEZONE
TZID:America/Toronto
BEGIN:DAYLIGHT
TZOFFSETFROM:-0500
TZOFFSETTO:-0400
TZNAME:EDT
DTSTART:20200308T070000
END:DAYLIGHT
BEGIN:STANDARD
TZOFFSETFROM:-0400
TZOFFSETTO:-0500
TZNAME:EST
DTSTART:20201101T060000
END:STANDARD
BEGIN:DAYLIGHT
TZOFFSETFROM:-0500
TZOFFSETTO:-0400
TZNAME:EDT
DTSTART:20210314T070000
END:DAYLIGHT
BEGIN:STANDARD
TZOFFSETFROM:-0400
TZOFFSETTO:-0500
TZNAME:EST
DTSTART:20211107T060000
END:STANDARD
BEGIN:DAYLIGHT
TZOFFSETFROM:-0500
TZOFFSETTO:-0400
TZNAME:EDT
DTSTART:20220313T070000
END:DAYLIGHT
BEGIN:STANDARD
TZOFFSETFROM:-0400
TZOFFSETTO:-0500
TZNAME:EST
DTSTART:20221106T060000
END:STANDARD
END:VTIMEZONE
BEGIN:VEVENT
DTSTART;TZID=America/Toronto:20210904T080000
DTEND;TZID=America/Toronto:20210904T130000
DTSTAMP:20260423T190023
CREATED:20210529T022530Z
LAST-MODIFIED:20210529T022530Z
UID:187786-1630742400-1630760400@collaborativerealestate.ca
SUMMARY:Collingwood Downtown Farmer's Market
DESCRIPTION:“Your Outdoor Grocery Store” \nThe Collingwood Downtown Business Improvement Area (BIA) is pleased to announce the return of the Collingwood Downtown Farmers’ Market\, this Saturday\, May 22nd. We continue to work with the Town of Collingwood and the local health unit to ensure that we have all protocols in place to ensure a safe shopping experience for both market vendors and customers. \nCome out this Saturday for the first market of the season and enjoy Collingwood’s ‘only outdoor grocery store’ at the corner of Second and Pine Streets. The market will open from 8 a.m. and continue to 1 p.m. \nPlease note that the market will be presented in the same format as last year. We will require that you respect physical distancing and wear a face mask both in line and in the market area. No pet dogs will be allowed.  We will be managing inflow of traffic at the one way entrance along Pine Street as well as arrows will guide you through the market to reach all your favourite vendors. Thank you to Heretic Spirits who will again be sponsoring the sanitizing stations at the entrance and exits at the market. \nVendors have been busy planting\, growing and baking to offer only the best for our 18th anniversary season and are looking forward to welcoming everyone back. As the growing season becomes more fruitful\, so will the variety of the goods available at the market. \nChanges to provincial regulations regarding producers permitted at farmers’ markets means that we will now also be welcoming local craft breweries and distillers to our market this year\, in addition to the wineries and cideries whose products have been available previously. \nFind out more details on what to expect this Saturday\, May 22nd by checking out our Facebook pages and details at www.collingwooddowntown.com.
URL:https://collaborativerealestate.ca/event/collingwood-downtown-farmers-market-16/
LOCATION:Collingwood Downtown
CATEGORIES:Drinks,Exercise,Family,Food,Markets,Outdoor,Shopping
ATTACH;FMTTYPE=image/png:https://collaborativerealestate.ca/wp-content/uploads/2021/05/Collingwood-farmers-market-e1622425006800.png
END:VEVENT
BEGIN:VEVENT
DTSTART;TZID=America/Toronto:20210904T083000
DTEND;TZID=America/Toronto:20210904T123000
DTSTAMP:20260423T190023
CREATED:20210619T195305Z
LAST-MODIFIED:20210619T195305Z
UID:190003-1630744200-1630758600@collaborativerealestate.ca
SUMMARY:Creemore Farmer's Market
DESCRIPTION:Thank you for your continued support. COVID protocols will apply to the 2021 market. Masks\, hand santitation\, directional flow\, and social distancing. We will be following Public Health requirements. \nOPEN for Business \nSat am 08:30 to 12:30 Creemore Springs Brewery corner of Mill & Edward St.
URL:https://collaborativerealestate.ca/event/creemore-farmers-market-18/
LOCATION:Creemore Springs Brewery\, 39 Mill St\, Creemore\, ON\, L0M 1G0\, Canada
CATEGORIES:Drinks,Exercise,Food,Markets,Outdoor
ATTACH;FMTTYPE=image/png:https://collaborativerealestate.ca/wp-content/uploads/2021/06/cropped-creemore-farmers-market-logo-220.png
END:VEVENT
BEGIN:VEVENT
DTSTART;TZID=America/Toronto:20210905T110000
DTEND;TZID=America/Toronto:20210905T140000
DTSTAMP:20260423T190023
CREATED:20210530T023401Z
LAST-MODIFIED:20210530T023401Z
UID:187921-1630839600-1630850400@collaborativerealestate.ca
SUMMARY:Thornbury Farmer's Market
DESCRIPTION:We are getting ready for the summer and look forward to operating the market again starting Sunday\, May 30\, 2021. We will set up in Smith Memorial Park beside the Town Hall on Highway 26 in Thornbury between 11 am – 2 pm.
URL:https://collaborativerealestate.ca/event/thornbury-farmers-market-23/
LOCATION:Smith Memorial Park\, Thornbury
CATEGORIES:Drinks,Exercise,Food,Markets,Outdoor
ATTACH;FMTTYPE=image/png:https://collaborativerealestate.ca/wp-content/uploads/2021/05/thornbury-e1622424951346.png
END:VEVENT
BEGIN:VEVENT
DTSTART;TZID=America/Toronto:20210907T160000
DTEND;TZID=America/Toronto:20210907T200000
DTSTAMP:20260423T190023
CREATED:20210603T213309Z
LAST-MODIFIED:20210603T213309Z
UID:188347-1631030400-1631044800@collaborativerealestate.ca
SUMMARY:Wasaga Beach Farmer's Market
DESCRIPTION:Where community comes together \nJoin Us Each Tuesday\nVisit the Wasaga Beach Farmers Market each Tuesday evening from 4 pm – dusk at our new location — 1724 Mosley Street (The RecPlex). The market runs from June until the first week of October\, bringing together local artisans\, vendors and the entire Wasaga Beach community to celebrate all that makes this area so special. \nOperating since 2015\, the Wasaga Beach Farmers Market has become a centre for local talent to showcase their products — and produce! We are proud members of Farmers Markets Ontario and abide by all governing regulations to deliver the public the highest quality of local goods and produce. If you’re interested in becoming a vendor\, please fill out the application provided. \nSeason Dates\nThe 2021 opening date for the Wasaga Beach Farmers Market is Tuesday\, June 15th. Vendor applications must be in prior to that date. Our market season runs each Tuesday evening from 4 pm until dusk\, with the final date being Tuesday\, October 5th.
URL:https://collaborativerealestate.ca/event/wasaga-beach-farmers-market-13/
LOCATION:The Rec Plex\, 1724 Mosley Street\, Wasaga Beach\, Ontario
CATEGORIES:Drinks,Exercise,Food,Markets,Outdoor
ATTACH;FMTTYPE=image/png:https://collaborativerealestate.ca/wp-content/uploads/2021/06/wasage-farmers-market-e1622660798173.png
END:VEVENT
BEGIN:VEVENT
DTSTART;TZID=America/Toronto:20210911T080000
DTEND;TZID=America/Toronto:20210911T130000
DTSTAMP:20260423T190023
CREATED:20210529T022710Z
LAST-MODIFIED:20210529T022710Z
UID:187792-1631347200-1631365200@collaborativerealestate.ca
SUMMARY:Collingwood Downtown Farmer's Market
DESCRIPTION:“Your Outdoor Grocery Store” \nThe Collingwood Downtown Business Improvement Area (BIA) is pleased to announce the return of the Collingwood Downtown Farmers’ Market\, this Saturday\, May 22nd. We continue to work with the Town of Collingwood and the local health unit to ensure that we have all protocols in place to ensure a safe shopping experience for both market vendors and customers. \nCome out this Saturday for the first market of the season and enjoy Collingwood’s ‘only outdoor grocery store’ at the corner of Second and Pine Streets. The market will open from 8 a.m. and continue to 1 p.m. \nPlease note that the market will be presented in the same format as last year. We will require that you respect physical distancing and wear a face mask both in line and in the market area. No pet dogs will be allowed.  We will be managing inflow of traffic at the one way entrance along Pine Street as well as arrows will guide you through the market to reach all your favourite vendors. Thank you to Heretic Spirits who will again be sponsoring the sanitizing stations at the entrance and exits at the market. \nVendors have been busy planting\, growing and baking to offer only the best for our 18th anniversary season and are looking forward to welcoming everyone back. As the growing season becomes more fruitful\, so will the variety of the goods available at the market. \nChanges to provincial regulations regarding producers permitted at farmers’ markets means that we will now also be welcoming local craft breweries and distillers to our market this year\, in addition to the wineries and cideries whose products have been available previously. \nFind out more details on what to expect this Saturday\, May 22nd by checking out our Facebook pages and details at www.collingwooddowntown.com.
URL:https://collaborativerealestate.ca/event/collingwood-downtown-farmers-market-17/
LOCATION:Collingwood Downtown
CATEGORIES:Drinks,Exercise,Family,Food,Markets,Outdoor,Shopping
ATTACH;FMTTYPE=image/png:https://collaborativerealestate.ca/wp-content/uploads/2021/05/Collingwood-farmers-market-e1622425006800.png
END:VEVENT
BEGIN:VEVENT
DTSTART;TZID=America/Toronto:20210911T083000
DTEND;TZID=America/Toronto:20210911T123000
DTSTAMP:20260423T190023
CREATED:20210619T195439Z
LAST-MODIFIED:20210619T195439Z
UID:190009-1631349000-1631363400@collaborativerealestate.ca
SUMMARY:Creemore Farmer's Market
DESCRIPTION:Thank you for your continued support. COVID protocols will apply to the 2021 market. Masks\, hand santitation\, directional flow\, and social distancing. We will be following Public Health requirements. \nOPEN for Business \nSat am 08:30 to 12:30 Creemore Springs Brewery corner of Mill & Edward St.
URL:https://collaborativerealestate.ca/event/creemore-farmers-market-19/
LOCATION:Creemore Springs Brewery\, 39 Mill St\, Creemore\, ON\, L0M 1G0\, Canada
CATEGORIES:Drinks,Exercise,Food,Markets,Outdoor
ATTACH;FMTTYPE=image/png:https://collaborativerealestate.ca/wp-content/uploads/2021/06/cropped-creemore-farmers-market-logo-220.png
END:VEVENT
BEGIN:VEVENT
DTSTART;TZID=America/Toronto:20210912T110000
DTEND;TZID=America/Toronto:20210912T140000
DTSTAMP:20260423T190023
CREATED:20210530T023553Z
LAST-MODIFIED:20210530T023553Z
UID:187927-1631444400-1631455200@collaborativerealestate.ca
SUMMARY:Thornbury Farmer's Market
DESCRIPTION:We are getting ready for the summer and look forward to operating the market again starting Sunday\, May 30\, 2021. We will set up in Smith Memorial Park beside the Town Hall on Highway 26 in Thornbury between 11 am – 2 pm.
URL:https://collaborativerealestate.ca/event/thornbury-farmers-market-24/
LOCATION:Smith Memorial Park\, Thornbury
CATEGORIES:Drinks,Exercise,Food,Markets,Outdoor
ATTACH;FMTTYPE=image/png:https://collaborativerealestate.ca/wp-content/uploads/2021/05/thornbury-e1622424951346.png
END:VEVENT
BEGIN:VEVENT
DTSTART;TZID=America/Toronto:20210918T080000
DTEND;TZID=America/Toronto:20210918T130000
DTSTAMP:20260423T190023
CREATED:20210529T022843Z
LAST-MODIFIED:20210529T022843Z
UID:187798-1631952000-1631970000@collaborativerealestate.ca
SUMMARY:Collingwood Downtown Farmer's Market
DESCRIPTION:“Your Outdoor Grocery Store” \nThe Collingwood Downtown Business Improvement Area (BIA) is pleased to announce the return of the Collingwood Downtown Farmers’ Market\, this Saturday\, May 22nd. We continue to work with the Town of Collingwood and the local health unit to ensure that we have all protocols in place to ensure a safe shopping experience for both market vendors and customers. \nCome out this Saturday for the first market of the season and enjoy Collingwood’s ‘only outdoor grocery store’ at the corner of Second and Pine Streets. The market will open from 8 a.m. and continue to 1 p.m. \nPlease note that the market will be presented in the same format as last year. We will require that you respect physical distancing and wear a face mask both in line and in the market area. No pet dogs will be allowed.  We will be managing inflow of traffic at the one way entrance along Pine Street as well as arrows will guide you through the market to reach all your favourite vendors. Thank you to Heretic Spirits who will again be sponsoring the sanitizing stations at the entrance and exits at the market. \nVendors have been busy planting\, growing and baking to offer only the best for our 18th anniversary season and are looking forward to welcoming everyone back. As the growing season becomes more fruitful\, so will the variety of the goods available at the market. \nChanges to provincial regulations regarding producers permitted at farmers’ markets means that we will now also be welcoming local craft breweries and distillers to our market this year\, in addition to the wineries and cideries whose products have been available previously. \nFind out more details on what to expect this Saturday\, May 22nd by checking out our Facebook pages and details at www.collingwooddowntown.com.
URL:https://collaborativerealestate.ca/event/collingwood-downtown-farmers-market-18/
LOCATION:Collingwood Downtown
CATEGORIES:Drinks,Exercise,Family,Food,Markets,Outdoor,Shopping
ATTACH;FMTTYPE=image/png:https://collaborativerealestate.ca/wp-content/uploads/2021/05/Collingwood-farmers-market-e1622425006800.png
END:VEVENT
BEGIN:VEVENT
DTSTART;TZID=America/Toronto:20210918T083000
DTEND;TZID=America/Toronto:20210918T123000
DTSTAMP:20260423T190023
CREATED:20210619T195605Z
LAST-MODIFIED:20210619T195605Z
UID:190015-1631953800-1631968200@collaborativerealestate.ca
SUMMARY:Creemore Farmer's Market
DESCRIPTION:Thank you for your continued support. COVID protocols will apply to the 2021 market. Masks\, hand santitation\, directional flow\, and social distancing. We will be following Public Health requirements. \nOPEN for Business \nSat am 08:30 to 12:30 Creemore Springs Brewery corner of Mill & Edward St.
URL:https://collaborativerealestate.ca/event/creemore-farmers-market-20/
LOCATION:Creemore Springs Brewery\, 39 Mill St\, Creemore\, ON\, L0M 1G0\, Canada
CATEGORIES:Drinks,Exercise,Food,Markets,Outdoor
ATTACH;FMTTYPE=image/png:https://collaborativerealestate.ca/wp-content/uploads/2021/06/cropped-creemore-farmers-market-logo-220.png
END:VEVENT
BEGIN:VEVENT
DTSTART;TZID=America/Toronto:20210919T110000
DTEND;TZID=America/Toronto:20210919T140000
DTSTAMP:20260423T190023
CREATED:20210530T023732Z
LAST-MODIFIED:20210530T023732Z
UID:187933-1632049200-1632060000@collaborativerealestate.ca
SUMMARY:Thornbury Farmer's Market
DESCRIPTION:We are getting ready for the summer and look forward to operating the market again starting Sunday\, May 30\, 2021. We will set up in Smith Memorial Park beside the Town Hall on Highway 26 in Thornbury between 11 am – 2 pm.
URL:https://collaborativerealestate.ca/event/thornbury-farmers-market-25/
LOCATION:Smith Memorial Park\, Thornbury
CATEGORIES:Drinks,Exercise,Food,Markets,Outdoor
ATTACH;FMTTYPE=image/png:https://collaborativerealestate.ca/wp-content/uploads/2021/05/thornbury-e1622424951346.png
END:VEVENT
BEGIN:VEVENT
DTSTART;TZID=America/Toronto:20210921T160000
DTEND;TZID=America/Toronto:20210921T200000
DTSTAMP:20260423T190023
CREATED:20210603T213932Z
LAST-MODIFIED:20210603T213932Z
UID:188365-1632240000-1632254400@collaborativerealestate.ca
SUMMARY:Wasaga Beach Farmer's Market
DESCRIPTION:Where community comes together \nJoin Us Each Tuesday\nVisit the Wasaga Beach Farmers Market each Tuesday evening from 4 pm – dusk at our new location — 1724 Mosley Street (The RecPlex). The market runs from June until the first week of October\, bringing together local artisans\, vendors and the entire Wasaga Beach community to celebrate all that makes this area so special. \nOperating since 2015\, the Wasaga Beach Farmers Market has become a centre for local talent to showcase their products — and produce! We are proud members of Farmers Markets Ontario and abide by all governing regulations to deliver the public the highest quality of local goods and produce. If you’re interested in becoming a vendor\, please fill out the application provided. \nSeason Dates\nThe 2021 opening date for the Wasaga Beach Farmers Market is Tuesday\, June 15th. Vendor applications must be in prior to that date. Our market season runs each Tuesday evening from 4 pm until dusk\, with the final date being Tuesday\, October 5th.
URL:https://collaborativerealestate.ca/event/wasaga-beach-farmers-market-15/
LOCATION:The Rec Plex\, 1724 Mosley Street\, Wasaga Beach\, Ontario
CATEGORIES:Drinks,Exercise,Food,Markets,Outdoor
ATTACH;FMTTYPE=image/png:https://collaborativerealestate.ca/wp-content/uploads/2021/06/wasage-farmers-market-e1622660798173.png
END:VEVENT
BEGIN:VEVENT
DTSTART;TZID=America/Toronto:20210925T080000
DTEND;TZID=America/Toronto:20210925T130000
DTSTAMP:20260423T190023
CREATED:20210529T023015Z
LAST-MODIFIED:20210529T023015Z
UID:187804-1632556800-1632574800@collaborativerealestate.ca
SUMMARY:Collingwood Downtown Farmer's Market
DESCRIPTION:“Your Outdoor Grocery Store” \nThe Collingwood Downtown Business Improvement Area (BIA) is pleased to announce the return of the Collingwood Downtown Farmers’ Market\, this Saturday\, May 22nd. We continue to work with the Town of Collingwood and the local health unit to ensure that we have all protocols in place to ensure a safe shopping experience for both market vendors and customers. \nCome out this Saturday for the first market of the season and enjoy Collingwood’s ‘only outdoor grocery store’ at the corner of Second and Pine Streets. The market will open from 8 a.m. and continue to 1 p.m. \nPlease note that the market will be presented in the same format as last year. We will require that you respect physical distancing and wear a face mask both in line and in the market area. No pet dogs will be allowed.  We will be managing inflow of traffic at the one way entrance along Pine Street as well as arrows will guide you through the market to reach all your favourite vendors. Thank you to Heretic Spirits who will again be sponsoring the sanitizing stations at the entrance and exits at the market. \nVendors have been busy planting\, growing and baking to offer only the best for our 18th anniversary season and are looking forward to welcoming everyone back. As the growing season becomes more fruitful\, so will the variety of the goods available at the market. \nChanges to provincial regulations regarding producers permitted at farmers’ markets means that we will now also be welcoming local craft breweries and distillers to our market this year\, in addition to the wineries and cideries whose products have been available previously. \nFind out more details on what to expect this Saturday\, May 22nd by checking out our Facebook pages and details at www.collingwooddowntown.com.
URL:https://collaborativerealestate.ca/event/collingwood-downtown-farmers-market-19/
LOCATION:Collingwood Downtown
CATEGORIES:Drinks,Exercise,Family,Food,Markets,Outdoor,Shopping
ATTACH;FMTTYPE=image/png:https://collaborativerealestate.ca/wp-content/uploads/2021/05/Collingwood-farmers-market-e1622425006800.png
END:VEVENT
BEGIN:VEVENT
DTSTART;TZID=America/Toronto:20210925T083000
DTEND;TZID=America/Toronto:20210925T123000
DTSTAMP:20260423T190023
CREATED:20210619T195747Z
LAST-MODIFIED:20210619T195747Z
UID:190021-1632558600-1632573000@collaborativerealestate.ca
SUMMARY:Creemore Farmer's Market
DESCRIPTION:Thank you for your continued support. COVID protocols will apply to the 2021 market. Masks\, hand santitation\, directional flow\, and social distancing. We will be following Public Health requirements. \nOPEN for Business \nSat am 08:30 to 12:30 Creemore Springs Brewery corner of Mill & Edward St.
URL:https://collaborativerealestate.ca/event/creemore-farmers-market-21/
LOCATION:Creemore Springs Brewery\, 39 Mill St\, Creemore\, ON\, L0M 1G0\, Canada
CATEGORIES:Drinks,Exercise,Food,Markets,Outdoor
ATTACH;FMTTYPE=image/png:https://collaborativerealestate.ca/wp-content/uploads/2021/06/cropped-creemore-farmers-market-logo-220.png
END:VEVENT
BEGIN:VEVENT
DTSTART;TZID=America/Toronto:20210926T110000
DTEND;TZID=America/Toronto:20210926T140000
DTSTAMP:20260423T190023
CREATED:20210530T023939Z
LAST-MODIFIED:20210530T023939Z
UID:187939-1632654000-1632664800@collaborativerealestate.ca
SUMMARY:Thornbury Farmer's Market
DESCRIPTION:We are getting ready for the summer and look forward to operating the market again starting Sunday\, May 30\, 2021. We will set up in Smith Memorial Park beside the Town Hall on Highway 26 in Thornbury between 11 am – 2 pm.
URL:https://collaborativerealestate.ca/event/thornbury-farmers-market-26/
LOCATION:Smith Memorial Park\, Thornbury
CATEGORIES:Drinks,Exercise,Food,Markets,Outdoor
ATTACH;FMTTYPE=image/png:https://collaborativerealestate.ca/wp-content/uploads/2021/05/thornbury-e1622424951346.png
END:VEVENT
BEGIN:VEVENT
DTSTART;TZID=America/Toronto:20210928T160000
DTEND;TZID=America/Toronto:20210928T200000
DTSTAMP:20260423T190023
CREATED:20210603T214130Z
LAST-MODIFIED:20210603T214130Z
UID:188371-1632844800-1632859200@collaborativerealestate.ca
SUMMARY:Wasaga Beach Farmer's Market
DESCRIPTION:Where community comes together \nJoin Us Each Tuesday\nVisit the Wasaga Beach Farmers Market each Tuesday evening from 4 pm – dusk at our new location — 1724 Mosley Street (The RecPlex). The market runs from June until the first week of October\, bringing together local artisans\, vendors and the entire Wasaga Beach community to celebrate all that makes this area so special. \nOperating since 2015\, the Wasaga Beach Farmers Market has become a centre for local talent to showcase their products — and produce! We are proud members of Farmers Markets Ontario and abide by all governing regulations to deliver the public the highest quality of local goods and produce. If you’re interested in becoming a vendor\, please fill out the application provided. \nSeason Dates\nThe 2021 opening date for the Wasaga Beach Farmers Market is Tuesday\, June 15th. Vendor applications must be in prior to that date. Our market season runs each Tuesday evening from 4 pm until dusk\, with the final date being Tuesday\, October 5th.
URL:https://collaborativerealestate.ca/event/wasaga-beach-farmers-market-16/
LOCATION:The Rec Plex\, 1724 Mosley Street\, Wasaga Beach\, Ontario
CATEGORIES:Drinks,Exercise,Food,Markets,Outdoor
ATTACH;FMTTYPE=image/png:https://collaborativerealestate.ca/wp-content/uploads/2021/06/wasage-farmers-market-e1622660798173.png
END:VEVENT
END:VCALENDAR